BEGIN:VCALENDAR
VERSION:2.0
PRODID:-//Türk Astronomi Derneği (TAD) - ECPv5.1.4//NONSGML v1.0//EN
CALSCALE:GREGORIAN
METHOD:PUBLISH
X-WR-CALNAME:Türk Astronomi Derneği (TAD)
X-ORIGINAL-URL:https://www.tad.org.tr
X-WR-CALDESC:Türk Astronomi Derneği (TAD) için etkinlikler
BEGIN:VTIMEZONE
TZID:Europe/Istanbul
BEGIN:DAYLIGHT
TZOFFSETFROM:+0200
TZOFFSETTO:+0300
TZNAME:EEST
DTSTART:20160327T010000
END:DAYLIGHT
BEGIN:STANDARD
TZOFFSETFROM:+0300
TZOFFSETTO:+0300
TZNAME:+03
DTSTART:20160906T210000
END:STANDARD
END:VTIMEZONE
BEGIN:VEVENT
DTSTART;TZID=Europe/Istanbul:20160504T100000
DTEND;TZID=Europe/Istanbul:20160506T230000
DTSTAMP:20260423T181650
CREATED:20160504T104307Z
LAST-MODIFIED:20160504T104334Z
UID:2420-1462356000-1462575600@www.tad.org.tr
SUMMARY:Amatör Astronomlar Kulübü (AAK) Mayıs Etkinliği
DESCRIPTION:Amatör Astronomlar Kulübü’nün Geleneksel Mayıs Etkinlikleri 4 – 5 – 6 Mayıs 2016 Tarihlerinde İstanbul Üniversitesi Astronomi ve Uzay Bilimleri Bölümü Ve Bölüm bahçesinde Gerçekleşecek. Gündüzleri\, Hava Kararana Kadar Her Yaştan Çocuklara Uygun Uygulamalı Gökbilim Atölyeleri\,  Planetaryum Gösterisi\, Tarihi Gözlemevi Gezisi\, Güneş Gözlemi\, Temel Astronomi Sunumları Yapılacak Akşamları İse Birbirinden Tecrübeli Bilim İnsanları Pek Çok Önemli Konuda Konuşmalar Yapacağı Akademik Sunumlarımız Olacak. Sunumların Sonunda Müzik Eşliğinde Pek Çok Teleskopla Gece Gözlemi Yapılacak. \n \nMayıs Etkinliği’nin bu yıl 25.si düzenleniyor. \n  \n  \n \n
URL:https://www.tad.org.tr/etkinlik/2420
LOCATION:İstanbul Üniversitesi\, Astronomi ve Uzay Bilimleri Bölümü\, İstanbul Üniversitesi\, Merkez Kampüs\, Beyazıt\, İstanbul\, 34119\, Türkiye
ORGANIZER;CN="Amat%C3%B6r%20Astronomlar%20Kul%C3%BCb%C3%BC%20%28AAK%29":MAILTO:iuffaak@gmail.com
END:VEVENT
END:VCALENDAR