BEGIN:VCALENDAR
VERSION:2.0
PRODID:-//Türk Astronomi Derneği (TAD) - ECPv5.1.4//NONSGML v1.0//EN
CALSCALE:GREGORIAN
METHOD:PUBLISH
X-WR-CALNAME:Türk Astronomi Derneği (TAD)
X-ORIGINAL-URL:https://www.tad.org.tr
X-WR-CALDESC:Türk Astronomi Derneği (TAD) için etkinlikler
BEGIN:VTIMEZONE
TZID:Europe/Istanbul
BEGIN:STANDARD
TZOFFSETFROM:+0300
TZOFFSETTO:+0300
TZNAME:+03
DTSTART:20190101T000000
END:STANDARD
END:VTIMEZONE
BEGIN:VEVENT
DTSTART;TZID=Europe/Istanbul:20190424T190000
DTEND;TZID=Europe/Istanbul:20190424T210000
DTSTAMP:20260423T164719
CREATED:20190413T094301Z
LAST-MODIFIED:20190413T094301Z
UID:2895-1556132400-1556139600@www.tad.org.tr
SUMMARY:400 Yıllık Gecikme
DESCRIPTION: \n
URL:https://www.tad.org.tr/etkinlik/400-yillik-gecikme
LOCATION:İstanbul Kültür Üniversitesi\, E5 Karayolu üzeri\, Bakırköy\, İstanbul\, 34158\, Türkiye
END:VEVENT
END:VCALENDAR