BEGIN:VCALENDAR
VERSION:2.0
PRODID:-//Türk Astronomi Derneği (TAD) - ECPv5.1.4//NONSGML v1.0//EN
CALSCALE:GREGORIAN
METHOD:PUBLISH
X-WR-CALNAME:Türk Astronomi Derneği (TAD)
X-ORIGINAL-URL:https://www.tad.org.tr
X-WR-CALDESC:Türk Astronomi Derneği (TAD) için etkinlikler
BEGIN:VTIMEZONE
TZID:Europe/Istanbul
BEGIN:STANDARD
TZOFFSETFROM:+0300
TZOFFSETTO:+0300
TZNAME:+03
DTSTART:20180101T000000
END:STANDARD
END:VTIMEZONE
BEGIN:VEVENT
DTSTART;TZID=Europe/Istanbul:20181204T100000
DTEND;TZID=Europe/Istanbul:20181204T160000
DTSTAMP:20260423T164716
CREATED:20181116T210511Z
LAST-MODIFIED:20181116T210511Z
UID:2612-1543917600-1543939200@www.tad.org.tr
SUMMARY:Abdullah Kızılırmak'ı Anma Toplantısı
DESCRIPTION: \n
URL:https://www.tad.org.tr/etkinlik/abdullah-kizilirmaki-anma-toplantisi
LOCATION:Ege Üniversitesi Astronomi ve Uzay Bilimleri Bölümü\, Bornova\, İzmir\, 35100\, Türkiye
ORGANIZER;CN="Ege%20%C3%9Cniversitesi%20G%C3%B6zlemevi":MAILTO:euguam@gmail.com
END:VEVENT
END:VCALENDAR