BEGIN:VCALENDAR
VERSION:2.0
PRODID:-//Türk Astronomi Derneği (TAD) - ECPv5.1.4//NONSGML v1.0//EN
CALSCALE:GREGORIAN
METHOD:PUBLISH
X-WR-CALNAME:Türk Astronomi Derneği (TAD)
X-ORIGINAL-URL:https://www.tad.org.tr
X-WR-CALDESC:Türk Astronomi Derneği (TAD) için etkinlikler
BEGIN:VTIMEZONE
TZID:Europe/Istanbul
BEGIN:DAYLIGHT
TZOFFSETFROM:+0200
TZOFFSETTO:+0300
TZNAME:EEST
DTSTART:20160327T010000
END:DAYLIGHT
BEGIN:STANDARD
TZOFFSETFROM:+0300
TZOFFSETTO:+0300
TZNAME:+03
DTSTART:20160906T210000
END:STANDARD
END:VTIMEZONE
BEGIN:VEVENT
DTSTART;TZID=Europe/Istanbul:20160812T090000
DTEND;TZID=Europe/Istanbul:20160814T170000
DTSTAMP:20260423T183145
CREATED:20160704T203235Z
LAST-MODIFIED:20160704T203235Z
UID:2434-1470992400-1471194000@www.tad.org.tr
SUMMARY:AstroFest'16
DESCRIPTION: \n  \n  \n \n
URL:https://www.tad.org.tr/etkinlik/astrofest16
LOCATION:Uludağ\, Altınova Mah. Fuar Cad. No:27 Osmangazi / Bursa (Yalova Yolu Buttim Fuar Alanı Yanı)\, Bursa\, Türkiye
END:VEVENT
END:VCALENDAR