BEGIN:VCALENDAR
VERSION:2.0
PRODID:-//Türk Astronomi Derneği (TAD) - ECPv5.1.4//NONSGML v1.0//EN
CALSCALE:GREGORIAN
METHOD:PUBLISH
X-WR-CALNAME:Türk Astronomi Derneği (TAD)
X-ORIGINAL-URL:https://www.tad.org.tr
X-WR-CALDESC:Türk Astronomi Derneği (TAD) için etkinlikler
BEGIN:VTIMEZONE
TZID:Europe/Istanbul
BEGIN:STANDARD
TZOFFSETFROM:+0300
TZOFFSETTO:+0300
TZNAME:+03
DTSTART:20190101T000000
END:STANDARD
END:VTIMEZONE
BEGIN:VEVENT
DTSTART;TZID=Europe/Istanbul:20190513T090000
DTEND;TZID=Europe/Istanbul:20191231T170000
DTSTAMP:20260423T164721
CREATED:20190513T090728Z
LAST-MODIFIED:20190529T082935Z
UID:2987-1557738000-1577811600@www.tad.org.tr
SUMMARY:Ay'a İnişin 50. Yılı Sergisi
DESCRIPTION: \n
URL:https://www.tad.org.tr/etkinlik/aya-inisin-50-yili-sergisi
LOCATION:İSTEK Belde Okulları Astronomi Müzesi\, Kuzguncuk Mah. Gümüşyolu Cad. Rasim Ağa Sk. No:7\, İstanbul\, 34664\, Türkiye
ATTACH;FMTTYPE=image/jpeg:https://www.tad.org.tr/wp-content/uploads/2019/05/banner_50_moon_logolu_TAD.jpg
ORGANIZER;CN="%C4%B0STEK%20Belde%20Okullar%C4%B1%20Astronomi%20M%C3%BCzesi":MAILTO:bilim.merkezi@istek.k12.tr
END:VEVENT
END:VCALENDAR