BEGIN:VCALENDAR
VERSION:2.0
PRODID:-//Türk Astronomi Derneği (TAD) - ECPv5.1.4//NONSGML v1.0//EN
CALSCALE:GREGORIAN
METHOD:PUBLISH
X-WR-CALNAME:Türk Astronomi Derneği (TAD)
X-ORIGINAL-URL:https://www.tad.org.tr
X-WR-CALDESC:Türk Astronomi Derneği (TAD) için etkinlikler
BEGIN:VTIMEZONE
TZID:Europe/Istanbul
BEGIN:STANDARD
TZOFFSETFROM:+0300
TZOFFSETTO:+0300
TZNAME:+03
DTSTART:20190101T000000
END:STANDARD
END:VTIMEZONE
BEGIN:VEVENT
DTSTART;TZID=Europe/Istanbul:20190826T093000
DTEND;TZID=Europe/Istanbul:20190829T180000
DTSTAMP:20260423T151434
CREATED:20190603T104900Z
LAST-MODIFIED:20190603T104924Z
UID:3036-1566811800-1567101600@www.tad.org.tr
SUMMARY:Hakkı Ögelman Yaz Okulu 2019: Astrofizikte Modelleme - Güneş'ten Gökada Merkezlerine
DESCRIPTION: \n
URL:https://www.tad.org.tr/etkinlik/hakki-ogelman-yaz-okulu-2019-astrofizikte-modelleme-gunesten-gokada-merkezlerine
LOCATION:Feza Gürsey Binası\, Boğaziçi Üniversitesi\, Kandilli Kampüsü\, Feza Gürsey Binası\, Çengelköy\, İstanbul\, Türkiye
ATTACH;FMTTYPE=image/png:https://www.tad.org.tr/wp-content/uploads/2019/06/afis2_fgastrofiziktemodelleme.png
ORGANIZER;CN="T%C3%BCrk%20Astronomi%20Derne%C4%9Fi":MAILTO:tad@tad.org.tr
END:VEVENT
END:VCALENDAR