BEGIN:VCALENDAR
VERSION:2.0
PRODID:-//Türk Astronomi Derneği (TAD) - ECPv5.1.4//NONSGML v1.0//EN
CALSCALE:GREGORIAN
METHOD:PUBLISH
X-WR-CALNAME:Türk Astronomi Derneği (TAD)
X-ORIGINAL-URL:https://www.tad.org.tr
X-WR-CALDESC:Türk Astronomi Derneği (TAD) için etkinlikler
BEGIN:VTIMEZONE
TZID:Europe/Istanbul
BEGIN:STANDARD
TZOFFSETFROM:+0300
TZOFFSETTO:+0300
TZNAME:+03
DTSTART:20190101T000000
END:STANDARD
END:VTIMEZONE
BEGIN:VEVENT
DTSTART;TZID=Europe/Istanbul:20190819T093000
DTEND;TZID=Europe/Istanbul:20190823T220000
DTSTAMP:20260423T152401
CREATED:20190531T105537Z
LAST-MODIFIED:20190531T110408Z
UID:3015-1566207000-1566597600@www.tad.org.tr
SUMMARY:Hakkı Ögelman Yaz Okulu 2019: Astronomlar İçin Fizik
DESCRIPTION:  \n
URL:https://www.tad.org.tr/etkinlik/hakki-ogelman-yaz-okulu-2019-astronomlar-icin-fizik
LOCATION:Feza Gürsey Binası\, Boğaziçi Üniversitesi\, Kandilli Kampüsü\, Feza Gürsey Binası\, Çengelköy\, İstanbul\, Türkiye
ATTACH;FMTTYPE=image/png:https://www.tad.org.tr/wp-content/uploads/2019/05/ogelman_yo_2019_banner.png
ORGANIZER;CN="T%C3%BCrk%20Astronomi%20Derne%C4%9Fi":MAILTO:tad@tad.org.tr
END:VEVENT
END:VCALENDAR