BEGIN:VCALENDAR
VERSION:2.0
PRODID:-//Türk Astronomi Derneği (TAD) - ECPv5.1.4//NONSGML v1.0//EN
CALSCALE:GREGORIAN
METHOD:PUBLISH
X-WR-CALNAME:Türk Astronomi Derneği (TAD)
X-ORIGINAL-URL:https://www.tad.org.tr
X-WR-CALDESC:Türk Astronomi Derneği (TAD) için etkinlikler
BEGIN:VTIMEZONE
TZID:Europe/Istanbul
BEGIN:DAYLIGHT
TZOFFSETFROM:+0200
TZOFFSETTO:+0300
TZNAME:EEST
DTSTART:20160327T010000
END:DAYLIGHT
BEGIN:STANDARD
TZOFFSETFROM:+0300
TZOFFSETTO:+0300
TZNAME:+03
DTSTART:20160906T210000
END:STANDARD
END:VTIMEZONE
BEGIN:VEVENT
DTSTART;TZID=Europe/Istanbul:20160815T080000
DTEND;TZID=Europe/Istanbul:20160819T170000
DTSTAMP:20260423T164824
CREATED:20160620T110839Z
LAST-MODIFIED:20160620T110839Z
UID:2427-1471248000-1471626000@www.tad.org.tr
SUMMARY:Hakkı Ögelman Yaz Okulu: Kompakt Yıldızların Astrofiziği
DESCRIPTION: \n
URL:https://www.tad.org.tr/etkinlik/hakki-ogelman-yaz-okulu-kompakt-yildizlarin-astrofizigi
LOCATION:Feza Gürsey Binası\, Boğaziçi Üniversitesi\, Kandilli Kampüsü\, Feza Gürsey Binası\, Çengelköy\, İstanbul\, Türkiye
ORGANIZER;CN="T%C3%BCrk%20Astronomi%20Derne%C4%9Fi":MAILTO:tad@tad.org.tr
END:VEVENT
END:VCALENDAR