BEGIN:VCALENDAR
VERSION:2.0
PRODID:-//Türk Astronomi Derneği (TAD) - ECPv5.1.4//NONSGML v1.0//EN
CALSCALE:GREGORIAN
METHOD:PUBLISH
X-WR-CALNAME:Türk Astronomi Derneği (TAD)
X-ORIGINAL-URL:https://www.tad.org.tr
X-WR-CALDESC:Türk Astronomi Derneği (TAD) için etkinlikler
BEGIN:VTIMEZONE
TZID:Europe/Istanbul
BEGIN:STANDARD
TZOFFSETFROM:+0300
TZOFFSETTO:+0300
TZNAME:+03
DTSTART:20190101T000000
END:STANDARD
END:VTIMEZONE
BEGIN:VEVENT
DTSTART;TZID=Europe/Istanbul:20191216T090000
DTEND;TZID=Europe/Istanbul:20191216T170000
DTSTAMP:20260423T151425
CREATED:20191202T204814Z
LAST-MODIFIED:20191202T204814Z
UID:3306-1576486800-1576515600@www.tad.org.tr
SUMMARY:III. Asteroit Madenciliği ve Meteor Bilimi Çalıştayı
DESCRIPTION: \n
URL:https://www.tad.org.tr/etkinlik/iii-asteroit-madenciligi-ve-meteor-bilimi-calistayi
LOCATION:Ege Üniversitesi Fen Fakültesi\, Ege Üniversitesi Fen Fakültesi\, İzmir\, 35100\, Türkiye
END:VEVENT
END:VCALENDAR