BEGIN:VCALENDAR
VERSION:2.0
PRODID:-//Türk Astronomi Derneği (TAD) - ECPv5.1.4//NONSGML v1.0//EN
CALSCALE:GREGORIAN
METHOD:PUBLISH
X-WR-CALNAME:Türk Astronomi Derneği (TAD)
X-ORIGINAL-URL:https://www.tad.org.tr
X-WR-CALDESC:Türk Astronomi Derneği (TAD) için etkinlikler
BEGIN:VTIMEZONE
TZID:Europe/Istanbul
BEGIN:DAYLIGHT
TZOFFSETFROM:+0200
TZOFFSETTO:+0300
TZNAME:EEST
DTSTART:20160327T010000
END:DAYLIGHT
BEGIN:STANDARD
TZOFFSETFROM:+0300
TZOFFSETTO:+0300
TZNAME:+03
DTSTART:20160906T210000
END:STANDARD
END:VTIMEZONE
BEGIN:VEVENT
DTSTART;TZID=Europe/Istanbul:20160516T150000
DTEND;TZID=Europe/Istanbul:20160516T170000
DTSTAMP:20260423T183338
CREATED:20160503T102918Z
LAST-MODIFIED:20160503T102918Z
UID:2418-1463410800-1463418000@www.tad.org.tr
SUMMARY:Kayasal Gezegenler için Kimyasal Kompozisyon Modellemesi
DESCRIPTION: \n
URL:https://www.tad.org.tr/etkinlik/kayasal-gezegenler-icin-kimyasal-kompozisyon-modellemesi
LOCATION:İstanbul Üniversitesi\, Astronomi ve Uzay Bilimleri Bölümü\, İstanbul Üniversitesi\, Astronomi ve Uzay Bilimleri Bölümü\, Merkez Kampüs\, Beyazıt\, İstanbul\, 34119
CATEGORIES:TAD-İstanbul Astrofizik Günleri
ORGANIZER;CN="T%C3%BCrk%20Astronomi%20Derne%C4%9Fi":MAILTO:tad@tad.org.tr
END:VEVENT
END:VCALENDAR