BEGIN:VCALENDAR
VERSION:2.0
PRODID:-//Türk Astronomi Derneği (TAD) - ECPv5.1.4//NONSGML v1.0//EN
CALSCALE:GREGORIAN
METHOD:PUBLISH
X-WR-CALNAME:Türk Astronomi Derneği (TAD)
X-ORIGINAL-URL:https://www.tad.org.tr
X-WR-CALDESC:Türk Astronomi Derneği (TAD) için etkinlikler
BEGIN:VTIMEZONE
TZID:Europe/Istanbul
BEGIN:STANDARD
TZOFFSETFROM:+0300
TZOFFSETTO:+0300
TZNAME:+03
DTSTART:20190101T000000
END:STANDARD
END:VTIMEZONE
BEGIN:VEVENT
DTSTART;TZID=Europe/Istanbul:20191228T093000
DTEND;TZID=Europe/Istanbul:20191228T173000
DTSTAMP:20260423T133209
CREATED:20191220T074035Z
LAST-MODIFIED:20191220T074035Z
UID:3346-1577525400-1577554200@www.tad.org.tr
SUMMARY:Öğretmenlerle Astronomi Semineri - 1
DESCRIPTION: \n
URL:https://www.tad.org.tr/etkinlik/ogretmenlerle-astronomi-semineri-1
LOCATION:Üsküdar Bilim Merkezi\, Ünalan\, Ünalan Cd. No:11\, İstanbul\, 34700\, Türkiye
END:VEVENT
END:VCALENDAR