BEGIN:VCALENDAR
VERSION:2.0
PRODID:-//Türk Astronomi Derneği (TAD) - ECPv5.1.4//NONSGML v1.0//EN
CALSCALE:GREGORIAN
METHOD:PUBLISH
X-WR-CALNAME:Türk Astronomi Derneği (TAD)
X-ORIGINAL-URL:https://www.tad.org.tr
X-WR-CALDESC:Türk Astronomi Derneği (TAD) için etkinlikler
BEGIN:VTIMEZONE
TZID:Europe/Istanbul
BEGIN:STANDARD
TZOFFSETFROM:+0300
TZOFFSETTO:+0300
TZNAME:+03
DTSTART:20200101T000000
END:STANDARD
END:VTIMEZONE
BEGIN:VEVENT
DTSTART;TZID=Europe/Istanbul:20200229T093000
DTEND;TZID=Europe/Istanbul:20200229T170000
DTSTAMP:20260423T134023
CREATED:20200212T115825Z
LAST-MODIFIED:20200212T115825Z
UID:3361-1582968600-1582995600@www.tad.org.tr
SUMMARY:Öğretmenlerle Astronomi Seminerleri - 2
DESCRIPTION: \n
URL:https://www.tad.org.tr/etkinlik/ogretmenlerle-astronomi-seminerleri-2-2
LOCATION:İstanbul Üniversitesi Astronomi ve Uzay Bilimleri Bölümü\, Merkez Kampüs\, Beyazıt\, İstanbul\, 34119\, Türkiye
END:VEVENT
END:VCALENDAR