BEGIN:VCALENDAR
VERSION:2.0
PRODID:-//Türk Astronomi Derneği (TAD) - ECPv5.1.4//NONSGML v1.0//EN
CALSCALE:GREGORIAN
METHOD:PUBLISH
X-WR-CALNAME:Türk Astronomi Derneği (TAD)
X-ORIGINAL-URL:https://www.tad.org.tr
X-WR-CALDESC:Türk Astronomi Derneği (TAD) için etkinlikler
BEGIN:VTIMEZONE
TZID:Europe/Istanbul
BEGIN:DAYLIGHT
TZOFFSETFROM:+0200
TZOFFSETTO:+0300
TZNAME:EEST
DTSTART:20160327T010000
END:DAYLIGHT
BEGIN:STANDARD
TZOFFSETFROM:+0300
TZOFFSETTO:+0300
TZNAME:+03
DTSTART:20160906T210000
END:STANDARD
END:VTIMEZONE
BEGIN:VEVENT
DTSTART;TZID=Europe/Istanbul:20160328T100000
DTEND;TZID=Europe/Istanbul:20160328T170000
DTSTAMP:20260423T164820
CREATED:20160311T143144Z
LAST-MODIFIED:20160316T154016Z
UID:2368-1459159200-1459184400@www.tad.org.tr
SUMMARY:Sempozyum: Üniversite Gözlemevleri
DESCRIPTION: \n
URL:https://www.tad.org.tr/etkinlik/sempozyum-universite-gozlemevleri
LOCATION:İstanbul Aydın Üniversitesi\, İstanbul Aydın Üniversitesi\, A Blok Konferans Salonu\, Florya Yerleşkesi\, İstanbul\, Türkiye
ORGANIZER;CN="%C4%B0stanbul%20Ayd%C4%B1n%20%C3%9Cniversitesi":MAILTO:orhangolbasi@aydin.edu.tr
END:VEVENT
END:VCALENDAR