BEGIN:VCALENDAR
VERSION:2.0
PRODID:-//Türk Astronomi Derneği (TAD) - ECPv5.1.4//NONSGML v1.0//EN
CALSCALE:GREGORIAN
METHOD:PUBLISH
X-WR-CALNAME:Türk Astronomi Derneği (TAD)
X-ORIGINAL-URL:https://www.tad.org.tr
X-WR-CALDESC:Türk Astronomi Derneği (TAD) için etkinlikler
BEGIN:VTIMEZONE
TZID:Europe/Istanbul
BEGIN:DAYLIGHT
TZOFFSETFROM:+0200
TZOFFSETTO:+0300
TZNAME:EEST
DTSTART:20150329T010000
END:DAYLIGHT
BEGIN:STANDARD
TZOFFSETFROM:+0300
TZOFFSETTO:+0200
TZNAME:EET
DTSTART:20151108T010000
END:STANDARD
END:VTIMEZONE
BEGIN:VEVENT
DTSTART;TZID=Europe/Istanbul:20150316T150000
DTEND;TZID=Europe/Istanbul:20150316T170000
DTSTAMP:20260423T182605
CREATED:20150313T152645Z
LAST-MODIFIED:20150313T152709Z
UID:2014-1426518000-1426525200@www.tad.org.tr
SUMMARY:TAD-Kandilli Astrofizik Günleri - 3
DESCRIPTION:TAD-Kandilli Astrofizik Günleri’nin üçüncüsü 16 Mart 2015 Pazartesi günü gerçekleşecek. Ege Üniversitesi’nden konuğumuz Prof. Dr. Mutlu Yıldız\, “Güneş Benzeri Titreşim Yapan Yıldızların Asterosismolojisi” hakkında konuşacak. \n \n  \nYer: Kandilli Rasathanesi ve Deprem Araştırma Enstitüsü\, Astronomi Laboratuvarı\, 2. Kat\, Çengelköy \n\nTarih: 16 Mart 2015 Pazartesi – 15:30 \nCanlı yayın için:\nTürk Astronomi Derneği Resmi YouTube Kanalı;\nhttps://www.youtube.com/c/TürkAstronomiDerneği \n  \n\n
URL:https://www.tad.org.tr/etkinlik/tad-kandilli-astrofizik-gunleri-3
LOCATION:Kandilli Rasathanesi\, Kandilli Rasathanesi ve Deprem Araştırma Enstitüsü\, Astronomi Laboratuvarı\, 2. Kat\, Çengelköy\, İstanbul\, Türkiye
CATEGORIES:TAD-Kandilli Astrofizik Günleri
ORGANIZER;CN="T%C3%BCrk%20Astronomi%20Derne%C4%9Fi":MAILTO:tad@tad.org.tr
END:VEVENT
END:VCALENDAR