BEGIN:VCALENDAR
VERSION:2.0
PRODID:-//Türk Astronomi Derneği (TAD) - ECPv5.1.4//NONSGML v1.0//EN
CALSCALE:GREGORIAN
METHOD:PUBLISH
X-WR-CALNAME:Türk Astronomi Derneği (TAD)
X-ORIGINAL-URL:https://www.tad.org.tr
X-WR-CALDESC:Türk Astronomi Derneği (TAD) için etkinlikler
BEGIN:VTIMEZONE
TZID:Europe/Istanbul
BEGIN:STANDARD
TZOFFSETFROM:+0300
TZOFFSETTO:+0300
TZNAME:+03
DTSTART:20190101T000000
END:STANDARD
END:VTIMEZONE
BEGIN:VEVENT
DTSTART;TZID=Europe/Istanbul:20190805T090000
DTEND;TZID=Europe/Istanbul:20190809T170000
DTSTAMP:20260423T151240
CREATED:20190204T085522Z
LAST-MODIFIED:20190204T085522Z
UID:2735-1564995600-1565370000@www.tad.org.tr
SUMMARY:TURCMOS 2019
DESCRIPTION:Moleküler spektroskopi üzerine düzenlenen uluslararası TURCMOS Kongresinin 4.sü 5-9 Ağustos 2019 tarihlerinde Kuşadası’nda gerçekleşecek. Ayrıntılı bilgi TURCMOS websitesinden veya broşürden edinilebilir: http://turcmos.com/wp-content/uploads/2019/01/TURCMOS2019_FLYER.pdf \n
URL:https://www.tad.org.tr/etkinlik/turcmos-2019
LOCATION:Güvercinada Coral Hill Otel\, Yavansu Mevkii Şht. Üst Tğmn. Cemalettin Yılmaz Cad. Kadınlar Denizi\, Kuşadası\, Aydın\, Türkiye
ORGANIZER;CN="Ozan%20%C3%9Cnsalan":MAILTO:ozan.unsalan@ege.edu.tr
END:VEVENT
END:VCALENDAR